BEGIN:VCALENDAR
VERSION:2.0
PRODID:-//https://www.villageofchesterns.ca//NONSGML kigkonsult.se iCalcrea
 tor 2.29.29//
CALSCALE:GREGORIAN
METHOD:PUBLISH
UID:c4f5efd4-5bae-4b8c-bbdf-4f53fe98427c
X-WR-CALNAME:JCal Pro Calendar
X-WR-CALDESC:Your online events calendar
X-WR-TIMEZONE:America/Halifax
BEGIN:VTIMEZONE
TZID:America/Halifax
BEGIN:STANDARD
TZNAME:AST
DTSTART:20251102T020000
TZOFFSETFROM:-0300
TZOFFSETTO:-0400
RDATE:20261101T020000
END:STANDARD
BEGIN:DAYLIGHT
TZNAME:ADT
DTSTART:20260308T020000
TZOFFSETFROM:-0400
TZOFFSETTO:-0300
RDATE:20270314T020000
END:DAYLIGHT
END:VTIMEZONE
BEGIN:VEVENT
UID:20250617T090000ADT-2409sSfXK2@https://villageofchesterns.ca/
DTSTAMP:20260425T112759Z
CATEGORIES:Commission
DESCRIPTION:<p>For more information: <a href='elections.html'>https://villa
 geofchesterns.ca/elections.html</a></p>
DTSTART;TZID=America/Halifax:20250617T090000
DTEND;TZID=America/Halifax:20250617T190000
SUMMARY:*CANCELLED* Annual Village ELECTION DAY
URL:https://www.villageofchesterns.ca/36-commission/5965-annual-village-ele
 ction-day.html
X-ALT-DESC;FMTTYPE=TEXT/HTML:<p>For more information: <a href='elections.ht
 ml'>https://villageofchesterns.ca/elections.html</a></p>
END:VEVENT
END:VCALENDAR
