BEGIN:VCALENDAR
VERSION:2.0
PRODID:-//https://www.villageofchesterns.ca//NONSGML kigkonsult.se iCalcrea
 tor 2.29.29//
CALSCALE:GREGORIAN
METHOD:PUBLISH
UID:03990b4e-6950-4f86-89a7-8c8a417ebcf3
X-WR-CALNAME:JCal Pro Calendar
X-WR-CALDESC:Your online events calendar
X-WR-TIMEZONE:America/Halifax
BEGIN:VTIMEZONE
TZID:America/Halifax
BEGIN:STANDARD
TZNAME:AST
DTSTART:20251102T020000
TZOFFSETFROM:-0300
TZOFFSETTO:-0400
RDATE:20261101T020000
END:STANDARD
BEGIN:DAYLIGHT
TZNAME:ADT
DTSTART:20260308T020000
TZOFFSETFROM:-0400
TZOFFSETTO:-0300
RDATE:20270314T020000
END:DAYLIGHT
END:VTIMEZONE
BEGIN:VEVENT
UID:20260623T090000ADT-1607MKFFZg@https://villageofchesterns.ca/
DTSTAMP:20260425T102109Z
CATEGORIES:Commission
DESCRIPTION:<p>Polls open 9:00 am - 7:00 pm</p>\n<p>Location and details to
  follow.&nbsp\;</p>
DTSTART;TZID=America/Halifax:20260623T090000
DTEND;TZID=America/Halifax:20260623T190000
SUMMARY:Village Election Day 2026
URL:https://www.villageofchesterns.ca/36-commission/6050-village-election-d
 ay-2026.html
X-ALT-DESC;FMTTYPE=TEXT/HTML:<p>Polls open 9:00 am - 7:00 pm</p>\n<p>Locati
 on and details to follow.&nbsp\;</p>
END:VEVENT
END:VCALENDAR
