BEGIN:VCALENDAR
VERSION:2.0
PRODID:-//https://www.villageofchesterns.ca//NONSGML kigkonsult.se iCalcrea
 tor 2.29.29//
CALSCALE:GREGORIAN
METHOD:PUBLISH
UID:fc8ea7a9-5901-4ae2-ab9b-fb5f8dffb13b
X-WR-CALNAME:JCal Pro Calendar
X-WR-CALDESC:Your online events calendar
X-WR-TIMEZONE:America/Halifax
BEGIN:VTIMEZONE
TZID:America/Halifax
BEGIN:STANDARD
TZNAME:AST
DTSTART:20251102T020000
TZOFFSETFROM:-0300
TZOFFSETTO:-0400
RDATE:20261101T020000
END:STANDARD
BEGIN:DAYLIGHT
TZNAME:ADT
DTSTART:20260308T020000
TZOFFSETFROM:-0400
TZOFFSETTO:-0300
RDATE:20270314T020000
END:DAYLIGHT
END:VTIMEZONE
BEGIN:VEVENT
UID:20260323T140000ADT-27442WZPEp@https://villageofchesterns.ca/
DTSTAMP:20260425T102030Z
CATEGORIES:Commission
DESCRIPTION:<p>In-person only at 63 Regent Street\, Chester</p>
DTSTART;TZID=America/Halifax:20260323T140000
DTEND;TZID=America/Halifax:20260323T140000
SUMMARY:Committee of the Whole (Budget)
URL:https://www.villageofchesterns.ca/36-commission/6048-committee-of-the-w
 hole-budget.html
X-ALT-DESC;FMTTYPE=TEXT/HTML:<p>In-person only at 63 Regent Street\, Cheste
 r</p>
END:VEVENT
END:VCALENDAR
